BEGIN:VCALENDAR
VERSION:2.0
PRODID:-//Community Artists of Westerville - ECPv6.15.17.1//NONSGML v1.0//EN
CALSCALE:GREGORIAN
METHOD:PUBLISH
X-WR-CALNAME:Community Artists of Westerville
X-ORIGINAL-URL:https://www.communityartistsofwesterville.org
X-WR-CALDESC:Events for Community Artists of Westerville
REFRESH-INTERVAL;VALUE=DURATION:PT1H
X-Robots-Tag:noindex
X-PUBLISHED-TTL:PT1H
BEGIN:VTIMEZONE
TZID:America/Halifax
BEGIN:DAYLIGHT
TZOFFSETFROM:-0400
TZOFFSETTO:-0300
TZNAME:ADT
DTSTART:20250309T060000
END:DAYLIGHT
BEGIN:STANDARD
TZOFFSETFROM:-0300
TZOFFSETTO:-0400
TZNAME:AST
DTSTART:20251102T050000
END:STANDARD
BEGIN:DAYLIGHT
TZOFFSETFROM:-0400
TZOFFSETTO:-0300
TZNAME:ADT
DTSTART:20260308T060000
END:DAYLIGHT
BEGIN:STANDARD
TZOFFSETFROM:-0300
TZOFFSETTO:-0400
TZNAME:AST
DTSTART:20261101T050000
END:STANDARD
BEGIN:DAYLIGHT
TZOFFSETFROM:-0400
TZOFFSETTO:-0300
TZNAME:ADT
DTSTART:20270314T060000
END:DAYLIGHT
BEGIN:STANDARD
TZOFFSETFROM:-0300
TZOFFSETTO:-0400
TZNAME:AST
DTSTART:20271107T050000
END:STANDARD
END:VTIMEZONE
BEGIN:VEVENT
DTSTART;TZID=America/Halifax:20260425T130000
DTEND;TZID=America/Halifax:20260425T150000
DTSTAMP:20260424T111906
CREATED:20260212T144147Z
LAST-MODIFIED:20260212T144147Z
UID:17556-1777122000-1777129200@www.communityartistsofwesterville.org
SUMMARY:April CAW Monthly Program: A Field Trip to Learn About Gallery Presentation!
DESCRIPTION:Something out of the ordinary— A field trip!\nWhen:  Saturday\, April 25 from 1 pm until 3 pm\nWhere:  3 Columbus art galleries \n     Brandt-Roberts Galleries\, 76 N. High Street\n     Chaos Contemporary Craft\, 78 N. High Street\n     Lindsay Gallery\, 82 N. High Street\nWhat:  We will learn about how best to present art to potential customers and what the workings of an art gallery entail.\nTransportation:  It may be helpful to do some carpooling. There are several parking lots within 500 feet of the galleries.
URL:https://www.communityartistsofwesterville.org/event/april-caw-monthly-program-a-field-trip-to-learn-about-gallery-presentation/
LOCATION:OH
END:VEVENT
BEGIN:VEVENT
DTSTART;TZID=America/Halifax:20260503T140000
DTEND;TZID=America/Halifax:20260530T170000
DTSTAMP:20260424T111906
CREATED:20260421T192814Z
LAST-MODIFIED:20260421T192814Z
UID:17575-1777816800-1780160400@www.communityartistsofwesterville.org
SUMMARY:68th CAW Annual Spring Show
DESCRIPTION:The 68th CAW Annual Spring Show at the Westerville Community Center with member art exhibited the month of May.  An “Artist Reception” is scheduled for Sunday\, May 3rd  2:00-4:00 PM with recognition and prizes.   \nTake in is Friday May 1st 4:00-6:00 PM.  Take down is Sunday\, May 31st anytime before 6:00 PM 
URL:https://www.communityartistsofwesterville.org/event/68th-caw-annual-spring-show/
LOCATION:Westerville Community Center\, 350 N Cleveland Ave\, Westerville\, OH\, 43082\, United States
END:VEVENT
BEGIN:VEVENT
DTSTART;TZID=America/Halifax:20260526T180000
DTEND;TZID=America/Halifax:20260526T200000
DTSTAMP:20260424T111906
CREATED:20251218T181839Z
LAST-MODIFIED:20260212T143557Z
UID:17532-1779818400-1779825600@www.communityartistsofwesterville.org
SUMMARY:May CAW Monthly Meeting: Rick Mock - Watercolor Demonstration
DESCRIPTION:Rick Mock is a graphic designer\, watercolorist\, and teacher. He has exhibited his work\nextensively and is a Signature Member of the Ohio Watercolor Society.  He will describe\nand demonstrate the keys to watercolors— paper\, brushes\, paints— and show his\nprocess for making an abstract painting. In addition\, Rick will display his paintings for\nmembers to review.
URL:https://www.communityartistsofwesterville.org/event/january-caw-monthly-meeting-2/
LOCATION:Westerville Community Center\, 350 N Cleveland Ave\, Westerville\, OH\, 43082\, United States
END:VEVENT
END:VCALENDAR